BEGIN:VCALENDAR
VERSION:2.0
PRODID:icalendar-ruby
CALSCALE:GREGORIAN
X-WR-TIMEZONE:Europe/Helsinki
BEGIN:VTIMEZONE
TZID:Europe/Helsinki
BEGIN:DAYLIGHT
DTSTART:20260329T040000
TZOFFSETFROM:+0200
TZOFFSETTO:+0300
RRULE:FREQ=YEARLY;BYDAY=-1SU;BYMONTH=3
TZNAME:EEST
END:DAYLIGHT
BEGIN:STANDARD
DTSTART:20261025T030000
TZOFFSETFROM:+0300
TZOFFSETTO:+0200
RRULE:FREQ=YEARLY;BYDAY=-1SU;BYMONTH=10
TZNAME:EET
END:STANDARD
END:VTIMEZONE
BEGIN:VEVENT
DTSTAMP:20260422T195044
UID:palokanilo.myclub.fi-9494615
DTSTART;TZID=Europe/Helsinki:20250905T170000
DTEND;TZID=Europe/Helsinki:20250905T180000
DESCRIPTION:Salitreeni omatoimisena\, käytössä kaikki salin välineistö
 . \nMukaan mukavat vaatteet\, sisäkengät ja juomapullo.\nKatso saapumiso
 hjeet täältä: https://palokanilo.fi/jyvaskylan-ammattiopisto-ravintola-
 priimus/\n\n\n\nhttps://palokanilo.myclub.fi/flow/events/9494615
LOCATION:Priimus\, Taulumäentie 45\, 40200 Jyväskylä
SEQUENCE:0
SUMMARY:Ryhmäliikunta : Salitreeni\, omatoiminen
URL;VALUE=URI:https://palokanilo.myclub.fi/flow/events/9494615
END:VEVENT
END:VCALENDAR
