BEGIN:VCALENDAR
VERSION:2.0
PRODID:icalendar-ruby
CALSCALE:GREGORIAN
X-WR-TIMEZONE:Europe/Helsinki
BEGIN:VTIMEZONE
TZID:Europe/Helsinki
BEGIN:DAYLIGHT
DTSTART:20260329T040000
TZOFFSETFROM:+0200
TZOFFSETTO:+0300
RRULE:FREQ=YEARLY;BYDAY=-1SU;BYMONTH=3
TZNAME:EEST
END:DAYLIGHT
BEGIN:STANDARD
DTSTART:20261025T030000
TZOFFSETFROM:+0300
TZOFFSETTO:+0200
RRULE:FREQ=YEARLY;BYDAY=-1SU;BYMONTH=10
TZNAME:EET
END:STANDARD
END:VTIMEZONE
BEGIN:VEVENT
DTSTAMP:20260419T145642
UID:palokanilo.myclub.fi-9150630
DTSTART;TZID=Europe/Helsinki:20260508T100000
DTEND;TZID=Europe/Helsinki:20260508T120000
DESCRIPTION:Unelmien liikuntapäivä senioreille on Palokan Ilon ja Jyväsk
 ylän kaupungin liikuntapalveluiden yhteistapahtuma\, jossa päästään k
 okeilemaan erilaisia liikuntatapoja.\nKlo 10-12 on tarjolla non stopina mm
 .  Kahvio (järjestäjänä Paloka ilon Uskollisuuden Kilta)  Ikämoto-rat
 a\, jossa pääsee kokeilemaan erilaisia välineitä\, haastamaan tasapain
 oa ja kuntoa hauskalla tavalla.  Pallohieronta fasciapalloilla  Puristusvo
 imatestausta  Kisailuja  Arvonta  Infoa liikutamahdollisuuksista\, kesäju
 mpista\, luontopoluista\, ulkokuntosaleista jne.  \nOhjatut varttijumpat  
 Klo 10.15-10.30 Vire (Veri kiertämään ja hymy huulille kevyellä\, tans
 sillista seisten tehtävällä jumpalla)  klo 11.00 FasciaMethod (Dynaamis
 ta kehonhuoltoa)  klo 11.30 ohjattu pallohierontaMaksuton tapahtuma ja avo
 in kaikille. Ei ilmoittautumista. Tule siis ja ota kaverit mukaan! https:/
 /palokanilo.fi/unelmienliikuntapaiva  \n\nhttps://palokanilo.myclub.fi/flo
 w/events/9150630
LOCATION:Palokan voimisteluhalli\, Palokanorsi 12\, 40270 Palokka\, Suomi
SEQUENCE:0
SUMMARY:Ryhmäliikunta : Unelmien liikuntapäivä senioreille
URL;VALUE=URI:https://palokanilo.myclub.fi/flow/events/9150630
END:VEVENT
END:VCALENDAR
