BEGIN:VCALENDAR
VERSION:2.0
PRODID:icalendar-ruby
CALSCALE:GREGORIAN
X-WR-TIMEZONE:Europe/Helsinki
BEGIN:VTIMEZONE
TZID:Europe/Helsinki
BEGIN:DAYLIGHT
DTSTART:20260329T040000
TZOFFSETFROM:+0200
TZOFFSETTO:+0300
RRULE:FREQ=YEARLY;BYDAY=-1SU;BYMONTH=3
TZNAME:EEST
END:DAYLIGHT
BEGIN:STANDARD
DTSTART:20261025T030000
TZOFFSETFROM:+0300
TZOFFSETTO:+0200
RRULE:FREQ=YEARLY;BYDAY=-1SU;BYMONTH=10
TZNAME:EET
END:STANDARD
END:VTIMEZONE
BEGIN:VEVENT
DTSTAMP:20260419T222109
UID:palokanilo.myclub.fi-10522433
DTSTART;TZID=Europe/Helsinki:20260524T120000
DTEND;TZID=Europe/Helsinki:20260524T150000
DESCRIPTION:KesäStartissa pääset kokeilemaan maistiaisia ILOn ryhmäliik
 unnan tarjonnasta.\nPäivän aikataulu tarkentuu lähempänä. \n\nhttps:/
 /palokanilo.myclub.fi/flow/events/10522433
LOCATION:Mankolan yhteinäiskoulu liikuntasali\, Saarijärventie 21\, 40270
  Palokka\, Finland
SEQUENCE:0
SUMMARY:Ryhmäliikunta : Ryhmäliikunnan KesäStartti
URL;VALUE=URI:https://palokanilo.myclub.fi/flow/events/10522433
END:VEVENT
END:VCALENDAR
